BEGIN:VCALENDAR
VERSION:2.0
PRODID:-//Tukios.com/
BEGIN:VEVENT
UID:67abcbdb-e2ed-4d5f-9ce8-32af847016d2@www.flannerbuchanan.com
DTSTAMP:20260423T183222Z
DTSTART:20260505T180000Z
DTEND:20260505T190000Z
SUMMARY:Funeral Service
DESCRIPTION:
URL:https://www.flannerbuchanan.com/obituaries/yasuko-summa
LOCATION: 10722 East Washington Street  Indianapolis IN 46229
GEO:39.7762686;-85.9764982
END:VEVENT
END:VCALENDAR