BEGIN:VCALENDAR
VERSION:2.0
PRODID:-//Tukios.com/
BEGIN:VEVENT
UID:facc835e-d62c-4085-9d6a-ec78f93a6203@www.flannerbuchanan.com
DTSTAMP:20260423T182702Z
DTSTART:20260505T140000Z
DTEND:20260505T180000Z
SUMMARY:Visitation
DESCRIPTION:
URL:https://www.flannerbuchanan.com/obituaries/yasuko-summa
LOCATION: 10722 East Washington Street  Indianapolis IN 46229
GEO:39.7762686;-85.9764982
END:VEVENT
END:VCALENDAR