BEGIN:VCALENDAR
VERSION:2.0
PRODID:-//Tukios.com/
BEGIN:VEVENT
UID:9cfbee77-eaea-4c5f-acdc-2b09cb869d67@www.flannerbuchanan.com
DTSTAMP:20260423T225433Z
DTSTART:20260430T150000Z
DTEND:20260430T160000Z
SUMMARY:Mass
DESCRIPTION:
URL:https://www.flannerbuchanan.com/obituaries/william-bill-schneider-jr
LOCATION: 5884 Crittenden Avenue   Indianapolis IN 46220
GEO:39.8610523;-86.1284739
END:VEVENT
END:VCALENDAR