BEGIN:VCALENDAR
VERSION:2.0
PRODID:-//Tukios.com/
BEGIN:VEVENT
UID:ccec7869-2b28-464a-8adc-57671a2371c9@www.flannerbuchanan.com
DTSTAMP:20260423T225014Z
DTSTART:20260430T140000Z
DTEND:20260430T150000Z
SUMMARY:Visitation
DESCRIPTION:
URL:https://www.flannerbuchanan.com/obituaries/william-bill-schneider-jr
LOCATION: 5884 Crittenden Avenue   Indianapolis IN 46220
GEO:39.8610523;-86.1284739
END:VEVENT
END:VCALENDAR