BEGIN:VCALENDAR
VERSION:2.0
PRODID:-//Tukios.com/
BEGIN:VEVENT
UID:3a211a74-e0d6-4d0a-bd75-0f0a8584d008@www.flannerbuchanan.com
DTSTAMP:20260423T225326Z
DTSTART:20260429T200000Z
DTEND:20260430T000000Z
SUMMARY:Visitation
DESCRIPTION:
URL:https://www.flannerbuchanan.com/obituaries/william-bill-schneider-jr
LOCATION: 1305 Broad Ripple Ave  Indianapolis IN 46220
GEO:39.8686736;-86.1356628
END:VEVENT
END:VCALENDAR