BEGIN:VCALENDAR
VERSION:2.0
PRODID:-//Tukios.com/
BEGIN:VEVENT
UID:5a7f43f4-8359-4b3d-ae0e-96e8e51fb793@www.flannerbuchanan.com
DTSTAMP:20260421T152656Z
DTSTART:20260502T163000Z
DTEND:20260502T173000Z
SUMMARY:Funeral Service
DESCRIPTION:
URL:https://www.flannerbuchanan.com/obituaries/ruth-ackerman
LOCATION:Flanner Buchanan - Carmel 325 East Carmel Drive  Carmel IN 46032
GEO:39.9616643;-86.1196944
END:VEVENT
END:VCALENDAR