BEGIN:VCALENDAR
VERSION:2.0
PRODID:-//Tukios.com/
BEGIN:VEVENT
UID:4a1a9260-622d-40d8-a162-a69265e736e6@www.flannerbuchanan.com
DTSTAMP:20260421T152729Z
DTSTART:20260502T150000Z
DTEND:20260502T163000Z
SUMMARY:Visitation
DESCRIPTION:
URL:https://www.flannerbuchanan.com/obituaries/ruth-ackerman
LOCATION:Flanner Buchanan - Carmel 325 East Carmel Drive  Carmel IN 46032
GEO:39.9616643;-86.1196944
END:VEVENT
END:VCALENDAR