BEGIN:VCALENDAR
VERSION:2.0
PRODID:-//Tukios.com/
BEGIN:VEVENT
UID:88b35062-62aa-470a-ba70-c607c2c2c881@www.flannerbuchanan.com
DTSTAMP:20260420T232742Z
DTSTART:20260426T190000Z
DTEND:20260426T200000Z
SUMMARY:Funeral Service
DESCRIPTION:
URL:https://www.flannerbuchanan.com/obituaries/russell-macdonald
LOCATION:St. Christopher’s Episcopal Church 1402 West Main Street  
	Carmel IN 46032
GEO:39.9790372;-86.153038
END:VEVENT
END:VCALENDAR