BEGIN:VCALENDAR
VERSION:2.0
PRODID:-//Tukios.com/
BEGIN:VEVENT
UID:98c2cccb-58a2-4804-8792-4fa1ec322525@www.flannerbuchanan.com
DTSTAMP:20260424T220435Z
DTSTART:20260428T170000Z
DTEND:20260428T180000Z
SUMMARY:Funeral Service
DESCRIPTION:
URL:https://www.flannerbuchanan.com/obituaries/randolph-pleasant
LOCATION:Flanner Buchanan-Speedway 2950 North High School Road  
	Indianapolis IN 46224
GEO:39.8085399;-86.2708506
END:VEVENT
END:VCALENDAR