BEGIN:VCALENDAR
VERSION:2.0
PRODID:-//Tukios.com/
BEGIN:VEVENT
UID:09f59ada-0a9b-452a-b09e-8e955bba1055@www.flannerbuchanan.com
DTSTAMP:20260424T220348Z
DTSTART:20260428T183000Z
DTEND:20260428T193000Z
SUMMARY:Burial with Military Honors
DESCRIPTION:
URL:https://www.flannerbuchanan.com/obituaries/randolph-pleasant
LOCATION: 700 38th Street  Indianapolis IN 46208
GEO:39.8257549;-86.1722126
END:VEVENT
END:VCALENDAR