BEGIN:VCALENDAR
VERSION:2.0
PRODID:-//Tukios.com/
BEGIN:VEVENT
UID:75ff1aaa-21b3-417b-a3b7-7533db9e4f2a@www.flannerbuchanan.com
DTSTAMP:20260424T220833Z
DTSTART:20260428T150000Z
DTEND:20260428T170000Z
SUMMARY:Visitation
DESCRIPTION:
URL:https://www.flannerbuchanan.com/obituaries/randolph-pleasant
LOCATION:Flanner Buchanan-Speedway 2950 North High School Road  
	Indianapolis IN 46224
GEO:39.8085399;-86.2708506
END:VEVENT
END:VCALENDAR