BEGIN:VCALENDAR
VERSION:2.0
PRODID:-//Tukios.com/
BEGIN:VEVENT
UID:68672ba1-57fc-4e5e-85a1-bec0dbdd4427@www.flannerbuchanan.com
DTSTAMP:20260421T205927Z
DTSTART:20260425T150000Z
DTEND:20260425T160000Z
SUMMARY:Funeral Service
DESCRIPTION:
URL:https://www.flannerbuchanan.com/obituaries/konstantinos-geroulis
LOCATION: 3500 West 106th Street  Carmel IN 46032
GEO:39.9418683;-86.2202272
END:VEVENT
END:VCALENDAR