BEGIN:VCALENDAR
VERSION:2.0
PRODID:-//Tukios.com/
BEGIN:VEVENT
UID:4a648c7b-347f-4d1d-b3dd-7bdfda3a524a@www.flannerbuchanan.com
DTSTAMP:20260421T210000Z
DTSTART:20260424T230000Z
DTEND:20260425T000000Z
SUMMARY:Trisagion Service
DESCRIPTION:
URL:https://www.flannerbuchanan.com/obituaries/konstantinos-geroulis
LOCATION: 9700 Allisonville Road  Indianapolis IN 46250
GEO:39.931331;-86.064307
END:VEVENT
END:VCALENDAR