BEGIN:VCALENDAR
VERSION:2.0
PRODID:-//Tukios.com/
BEGIN:VEVENT
UID:7231a883-1fcc-47cb-802b-00e5295ad9d7@www.flannerbuchanan.com
DTSTAMP:20260421T210144Z
DTSTART:20260424T200000Z
DTEND:20260425T000000Z
SUMMARY:Visitation
DESCRIPTION:
URL:https://www.flannerbuchanan.com/obituaries/konstantinos-geroulis
LOCATION: 9700 Allisonville Road  Indianapolis IN 46250
GEO:39.931331;-86.064307
END:VEVENT
END:VCALENDAR