BEGIN:VCALENDAR
VERSION:2.0
PRODID:-//Tukios.com/
BEGIN:VEVENT
UID:65affdaa-886e-47dd-be9c-25cc8ca45323@www.flannerbuchanan.com
DTSTAMP:20260422T042321Z
DTSTART:20260502T163000Z
DTEND:20260502T173000Z
SUMMARY:Memorial Service
DESCRIPTION:
URL:https://www.flannerbuchanan.com/obituaries/jeremy-phillips
LOCATION: 9700 Allisonville Road  Indianapolis IN 46250
GEO:39.931331;-86.064307
END:VEVENT
END:VCALENDAR