BEGIN:VCALENDAR
VERSION:2.0
PRODID:-//Tukios.com/
BEGIN:VEVENT
UID:4fe65aee-ae29-4777-9671-6c9d7ff1f601@www.flannerbuchanan.com
DTSTAMP:20260422T042545Z
DTSTART:20260502T143000Z
DTEND:20260502T163000Z
SUMMARY:Visitation
DESCRIPTION:
URL:https://www.flannerbuchanan.com/obituaries/jeremy-phillips
LOCATION: 9700 Allisonville Road  Indianapolis IN 46250
GEO:39.931331;-86.064307
END:VEVENT
END:VCALENDAR