BEGIN:VCALENDAR
VERSION:2.0
PRODID:-//Tukios.com/
BEGIN:VEVENT
UID:72932cc6-cab5-4536-bd46-1437b34c8c31@www.flannerbuchanan.com
DTSTAMP:20260423T040248Z
DTSTART:20260515T160000Z
DTEND:20260515T180000Z
SUMMARY:Memorial Gathering
DESCRIPTION:
URL:https://www.flannerbuchanan.com/obituaries/jeanine-smith
LOCATION:Flanner Buchanan Hamiliton Memorial Park – Prairie Waters 4180 
	Westfield Road  Westfield IN 46074
GEO:40.0446966;-86.1020088
END:VEVENT
END:VCALENDAR