BEGIN:VCALENDAR
VERSION:2.0
PRODID:-//Tukios.com/
BEGIN:VEVENT
UID:a7866253-ba77-45f3-ba64-bdb35098a8ce@www.flannerbuchanan.com
DTSTAMP:20260423T040121Z
DTSTART:20260515T150000Z
DTEND:20260515T160000Z
SUMMARY:Celebration of Life
DESCRIPTION:
URL:https://www.flannerbuchanan.com/obituaries/jeanine-smith
LOCATION:Flanner Buchanan Hamiliton Memorial Park – Prairie Waters 4180 
	Westfield Road  Westfield IN 46074
GEO:40.0450393;-86.1014915
END:VEVENT
END:VCALENDAR