BEGIN:VCALENDAR
VERSION:2.0
PRODID:-//Tukios.com/
BEGIN:VEVENT
UID:fc9fe92a-8a77-4539-8ed8-001a62fa3164@www.flannerbuchanan.com
DTSTAMP:20260422T195011Z
DTSTART:20260428T150000Z
DTEND:20260428T160000Z
SUMMARY:Funeral Service
DESCRIPTION:
URL:https://www.flannerbuchanan.com/obituaries/hubert-rethmeier
LOCATION: 10722 East Washington Street  Indianapolis IN 46229
GEO:39.7762686;-85.9764982
END:VEVENT
END:VCALENDAR