BEGIN:VCALENDAR
VERSION:2.0
PRODID:-//Tukios.com/
BEGIN:VEVENT
UID:7a4a2f40-8d9e-49a4-aa66-36d478f6fd59@www.flannerbuchanan.com
DTSTAMP:20260422T195310Z
DTSTART:20260427T190000Z
DTEND:20260427T220000Z
SUMMARY:Visitation
DESCRIPTION:
URL:https://www.flannerbuchanan.com/obituaries/hubert-rethmeier
LOCATION: 10722 East Washington Street  Indianapolis IN 46229
GEO:39.7762686;-85.9764982
END:VEVENT
END:VCALENDAR