BEGIN:VCALENDAR
VERSION:2.0
PRODID:-//Tukios.com/
BEGIN:VEVENT
UID:3ac93b8f-81f7-43fa-ad11-3ce5fe48ffdc@www.flannerbuchanan.com
DTSTAMP:20260422T174615Z
DTSTART:20260427T170000Z
DTEND:20260427T180000Z
SUMMARY:Funeral Service
DESCRIPTION:
URL:https://www.flannerbuchanan.com/obituaries/helen-sims
LOCATION: 10722 E Washington St  Indianapolis IN 46229
GEO:39.7762686;-85.9764982
END:VEVENT
END:VCALENDAR