BEGIN:VCALENDAR
VERSION:2.0
PRODID:-//Tukios.com/
BEGIN:VEVENT
UID:603e0bc3-fb83-4a6d-83a0-1464c57b4b9f@www.flannerbuchanan.com
DTSTAMP:20260422T174752Z
DTSTART:20260427T150000Z
DTEND:20260427T170000Z
SUMMARY:Visitation
DESCRIPTION:
URL:https://www.flannerbuchanan.com/obituaries/helen-sims
LOCATION: 10722 E Washington St  Indianapolis IN 46229
GEO:39.7762686;-85.9764982
END:VEVENT
END:VCALENDAR