BEGIN:VCALENDAR
VERSION:2.0
PRODID:-//Tukios.com/
BEGIN:VEVENT
UID:df8fed78-7852-4d37-ab1f-814840fe4af4@www.flannerbuchanan.com
DTSTAMP:20260423T214432Z
DTSTART:20260501T160000Z
DTEND:20260501T170000Z
SUMMARY:Funeral Service
DESCRIPTION:
URL:https://www.flannerbuchanan.com/obituaries/elizabeth-covington
LOCATION: 2706 Kessler Blvd W Dr  Indianapolis IN 46228
GEO:39.8542787;-86.2070871
END:VEVENT
END:VCALENDAR