BEGIN:VCALENDAR
VERSION:2.0
PRODID:-//Tukios.com/
BEGIN:VEVENT
UID:cb15fe5e-a862-4e41-aabb-6d418888d79d@www.flannerbuchanan.com
DTSTAMP:20260423T214130Z
DTSTART:20260501T140000Z
DTEND:20260501T160000Z
SUMMARY:Visitation
DESCRIPTION:
URL:https://www.flannerbuchanan.com/obituaries/elizabeth-covington
LOCATION: 2706 Kessler Blvd W Dr  Indianapolis IN 46228
GEO:39.8542787;-86.2070871
END:VEVENT
END:VCALENDAR