BEGIN:VCALENDAR
VERSION:2.0
PRODID:-//Tukios.com/
BEGIN:VEVENT
UID:e1d68216-d4e8-434e-9138-b32a15430262@www.flannerbuchanan.com
DTSTAMP:20260422T221708Z
DTSTART:20260801
SUMMARY:Private Service
DESCRIPTION:
URL:https://www.flannerbuchanan.com/obituaries/carol-hoover
LOCATION: 505 Bundy Ave  New Castle IN 47362
GEO:39.9208234;-85.3788523
END:VEVENT
END:VCALENDAR