BEGIN:VCALENDAR
VERSION:2.0
PRODID:-//Tukios.com/
BEGIN:VEVENT
UID:44064e4f-df83-4651-b606-eb32ea15c6e3@www.flannerbuchanan.com
DTSTAMP:20260420T232907Z
DTSTART:20260425T190000Z
DTEND:20260425T201500Z
SUMMARY:Graveside Service
DESCRIPTION:
URL:https://www.flannerbuchanan.com/obituaries/bonnie-stidham
LOCATION: 10722 E Washington St  Indianapolis IN 46229
GEO:39.7762686;-85.9764982
END:VEVENT
END:VCALENDAR