BEGIN:VCALENDAR
VERSION:2.0
PRODID:-//Tukios.com/
BEGIN:VEVENT
UID:de7e0b8c-7922-4c82-96ab-c840423fd47e@www.flannerbuchanan.com
DTSTAMP:20260420T233155Z
DTSTART:20260425T160000Z
DTEND:20260425T180000Z
SUMMARY:Visitation
DESCRIPTION:
URL:https://www.flannerbuchanan.com/obituaries/bonnie-stidham
LOCATION: 10722 E Washington St  Indianapolis IN 46229
GEO:39.7762686;-85.9764982
END:VEVENT
END:VCALENDAR