BEGIN:VCALENDAR
VERSION:2.0
PRODID:-//Tukios.com/
BEGIN:VEVENT
UID:8a1bffde-d551-481e-bbce-8c66b71e10be@www.flannerbuchanan.com
DTSTAMP:20260420T232548Z
DTSTART:20260425T180000Z
DTEND:20260425T190000Z
SUMMARY:Funeral Service
DESCRIPTION:
URL:https://www.flannerbuchanan.com/obituaries/bonnie-stidham
LOCATION: 10722 E Washington St  Indianapolis IN 46229
GEO:39.7762686;-85.9764982
END:VEVENT
END:VCALENDAR