BEGIN:VCALENDAR
VERSION:2.0
PRODID:-//Tukios.com/
BEGIN:VEVENT
UID:ed8de82a-37fc-4f61-9c2c-4db4394d89b8@www.flannerbuchanan.com
DTSTAMP:20260419T202401Z
DTSTART:20260420T150000Z
DTEND:20260420T170000Z
SUMMARY:Visitation
DESCRIPTION:
URL:https://www.flannerbuchanan.com/obituaries/alice-lockhart-broadstreet
LOCATION:Flanner Buchanan-Floral Park 425 North Holt Road  Indianapolis 
	IN 46222
GEO:39.7722473;-86.2274688
END:VEVENT
END:VCALENDAR